BEGIN:VCALENDAR
VERSION:2.0
PRODID:-//eventon.com NONSGML v1.0//EN
CALSCALE:GREGORIAN
METHOD:PUBLISH
BEGIN:VEVENT
UID:69e92be9149bc
DTSTAMP:20260422T201329Z
DTSTART:20220220T130000Z
DTEND:20220220T150000Z
LOCATION:Sandplatz\,  Meran
SUMMARY:Andreas Hofer Landesfeier in Meran
DESCRIPTION:Andreas Hofer Landesfeier in Meran\nhttps://skbozen.com/aktuell
 es/veranstaltung/andreas-hofer-landesfeier-in-meran/
URL:https://skbozen.com/aktuelles/veranstaltung/andreas-hofer-landesfeier-in-meran/
END:VEVENT
END:VCALENDAR