BEGIN:VCALENDAR
VERSION:2.0
PRODID:-//eventon.com NONSGML v1.0//EN
CALSCALE:GREGORIAN
METHOD:PUBLISH
BEGIN:VEVENT
UID:69e737cf24f3c
DTSTAMP:20260421T083943Z
DTSTART:20260503T060000Z
DTEND:20260503T080000Z
LOCATION:Rentsch\,  Bozen
SUMMARY:Florianifeier der FF Bozen
DESCRIPTION:Programm 08.00 Uhr Aufstellung zum Einzug in Untermagdalena (Mu
 sikkapelle\,  Patinnen und Ehrengäste\,  Wehrmänner) 08.15 Uhr Abmarsch z
 um Festgottesdienst 08:30 Uhr Festgottesdienst in der St.Lorenz Kirche in R
 entsch Fahrzeugsegnung anschließend Umtrunk bei gemütlichem Beisammensein
  beim Zigglbrunnen\nhttps://skbozen.com/aktuelles/veranstaltung/florianifei
 er-der-ff-bozen/
URL:https://skbozen.com/aktuelles/veranstaltung/florianifeier-der-ff-bozen/
END:VEVENT
END:VCALENDAR