BEGIN:VCALENDAR
VERSION:2.0
PRODID:-//eventon.com NONSGML v1.0//EN
CALSCALE:GREGORIAN
METHOD:PUBLISH
BEGIN:VEVENT
UID:69e69cd34dc1a
DTSTAMP:20260420T213827Z
DTSTART:20260504T170000Z
DTEND:20260504T190000Z
LOCATION:Schützenheim\,  SK Bozen St. Johann-Gasse 1/D
SUMMARY:Monatsversammlung Mai
DESCRIPTION:&nbsp;\nhttps://skbozen.com/aktuelles/veranstaltung/monatsversa
 mmlung-mai-3/
URL:https://skbozen.com/aktuelles/veranstaltung/monatsversammlung-mai-3/
END:VEVENT
END:VCALENDAR