BEGIN:VCALENDAR
VERSION:2.0
PRODID:-//eventon.com NONSGML v1.0//EN
CALSCALE:GREGORIAN
METHOD:PUBLISH
BEGIN:VEVENT
UID:69e88536e43be
DTSTAMP:20260422T082214Z
DTSTART:20260220T190000Z
DTEND:20260220T205900Z
LOCATION:Gries\,  Bozen
SUMMARY:Andreas Hofer Gedenkfeier in Gries
DESCRIPTION:Andreas Hofer Gedenkfeier in Gries\nhttps://skbozen.com/aktuell
 es/veranstaltung/andreas-hofer-gedenkfeier-in-gries-2/
URL:https://skbozen.com/aktuelles/veranstaltung/andreas-hofer-gedenkfeier-in-gries-2/
END:VEVENT
END:VCALENDAR