BEGIN:VCALENDAR
VERSION:2.0
PRODID:-//eventon.com NONSGML v1.0//EN
CALSCALE:GREGORIAN
METHOD:PUBLISH
BEGIN:VEVENT
UID:69e74c8c3505b
DTSTAMP:20260421T100812Z
DTSTART:20261122T100000Z
DTEND:20261122T105900Z
LOCATION:Lana\,  Südtirol
SUMMARY:Franz Höfler Gedenkfeier in Lana
DESCRIPTION:Franz Höfler Gedenkfeier in Lana\nhttps://skbozen.com/aktuelle
 s/veranstaltung/franz-hoefler-gedenkfeier-in-lana-2/
URL:https://skbozen.com/aktuelles/veranstaltung/franz-hoefler-gedenkfeier-in-lana-2/
END:VEVENT
END:VCALENDAR