BEGIN:VCALENDAR
VERSION:2.0
PRODID:-//eventon.com NONSGML v1.0//EN
CALSCALE:GREGORIAN
METHOD:PUBLISH
BEGIN:VEVENT
UID:69e5e0940862f
DTSTAMP:20260420T081516Z
DTSTART:20260503
DTEND:20260504
LOCATION:
SUMMARY:Gauderfest in Zell am Ziller im Zillertal
DESCRIPTION:Gauderfest in Zell am Ziller im Zillertal\nhttps://skbozen.com/
 aktuelles/veranstaltung/gauderfest-in-zell-am-ziller-im-zillertal/
URL:https://skbozen.com/aktuelles/veranstaltung/gauderfest-in-zell-am-ziller-im-zillertal/
END:VEVENT
END:VCALENDAR