BEGIN:VCALENDAR
VERSION:2.0
PRODID:-//eventon.com NONSGML v1.0//EN
CALSCALE:GREGORIAN
METHOD:PUBLISH
BEGIN:VEVENT
UID:69e5f9f3e0735
DTSTAMP:20260420T100331Z
DTSTART:20260228T153000Z
DTEND:20260228T170000Z
LOCATION:
SUMMARY:Peter Mayr Gedenkfeier an der Mahr
DESCRIPTION:Peter Mayr Gedenkfeier an der Mahr\nhttps://skbozen.com/aktuell
 es/veranstaltung/peter-mayr-gedenkfeier-an-der-mahr/
URL:https://skbozen.com/aktuelles/veranstaltung/peter-mayr-gedenkfeier-an-der-mahr/
END:VEVENT
END:VCALENDAR