BEGIN:VCALENDAR
VERSION:2.0
PRODID:-//eventon.com NONSGML v1.0//EN
CALSCALE:GREGORIAN
METHOD:PUBLISH
BEGIN:VEVENT
UID:69e737990c0d9
DTSTAMP:20260421T083849Z
DTSTART:20260217T150000Z
DTEND:20260217T170000Z
LOCATION:Schützenheim\,  SK Bozen St. Johann-Gasse 1/D
SUMMARY:Faschingskehraus
DESCRIPTION:Faschingskehraus\nhttps://skbozen.com/aktuelles/veranstaltung/f
 aschingskehraus-4/
URL:https://skbozen.com/aktuelles/veranstaltung/faschingskehraus-4/
END:VEVENT
END:VCALENDAR