BEGIN:VCALENDAR
VERSION:2.0
PRODID:-//eventon.com NONSGML v1.0//EN
CALSCALE:GREGORIAN
METHOD:PUBLISH
BEGIN:VEVENT
UID:69e88555070a3
DTSTAMP:20260422T082245Z
DTSTART:20260214T190000Z
DTEND:20260214T225900Z
LOCATION:Innsbruck\,  Tirol
SUMMARY:Faschingsparty in Innsbruck
DESCRIPTION:Faschingsparty in Innsbruck\nhttps://skbozen.com/aktuelles/vera
 nstaltung/faschingsparty-in-innsbruck-3/
URL:https://skbozen.com/aktuelles/veranstaltung/faschingsparty-in-innsbruck-3/
END:VEVENT
END:VCALENDAR