BEGIN:VCALENDAR
VERSION:2.0
PRODID:-//eventon.com NONSGML v1.0//EN
CALSCALE:GREGORIAN
METHOD:PUBLISH
BEGIN:VEVENT
UID:69e737cf23e7f
DTSTAMP:20260421T083943Z
DTSTART:20260607T070000Z
DTEND:20260607T100000Z
LOCATION:Bozen
SUMMARY:Fronleichnamsprozession
DESCRIPTION:Fronleichnamsprozession\nhttps://skbozen.com/aktuelles/veransta
 ltung/fronleichnamsprozession-2026/
URL:https://skbozen.com/aktuelles/veranstaltung/fronleichnamsprozession-2026/
END:VEVENT
END:VCALENDAR