BEGIN:VCALENDAR
VERSION:2.0
PRODID:-//eventon.com NONSGML v1.0//EN
CALSCALE:GREGORIAN
METHOD:PUBLISH
BEGIN:VEVENT
UID:69e737990c114
DTSTAMP:20260421T083849Z
DTSTART:20251130T123000Z
DTEND:20251130T150000Z
LOCATION:Boccaldo\,  Welsch Tirol
SUMMARY:Gedenkfeier am Soldatenfriedhof in Boccaldo
DESCRIPTION:Gedenkfeier am Soldatenfriedhof in Boccaldo\nhttps://skbozen.co
 m/aktuelles/veranstaltung/gedenkfeier-am-soldatenfriedhof-in-boccaldo-2/
URL:https://skbozen.com/aktuelles/veranstaltung/gedenkfeier-am-soldatenfriedhof-in-boccaldo-2/
END:VEVENT
END:VCALENDAR