BEGIN:VCALENDAR
VERSION:2.0
PRODID:-//eventon.com NONSGML v1.0//EN
CALSCALE:GREGORIAN
METHOD:PUBLISH
BEGIN:VEVENT
UID:69e88572a9450
DTSTAMP:20260422T082314Z
DTSTART:20251209T180000Z
DTEND:20251209T200000Z
LOCATION:Schützenheim\,  SK Bozen St. Johann-Gasse 1/D
SUMMARY:Monatsversammlung Dezember
DESCRIPTION:&nbsp;\nhttps://skbozen.com/aktuelles/veranstaltung/monatsversa
 mmlung-dezember-2/
URL:https://skbozen.com/aktuelles/veranstaltung/monatsversammlung-dezember-2/
END:VEVENT
END:VCALENDAR