BEGIN:VCALENDAR
VERSION:2.0
PRODID:-//eventon.com NONSGML v1.0//EN
CALSCALE:GREGORIAN
METHOD:PUBLISH
BEGIN:VEVENT
UID:69e737b396157
DTSTAMP:20260421T083915Z
DTSTART:20251115T090000Z
DTEND:20251115T110000Z
LOCATION:St. Johann\,  Bozen St. Johann Gasse
SUMMARY:Turmputz in der St. Johann-Kirche
DESCRIPTION:Turmputz in der St. Johann-Kirche\nhttps://skbozen.com/aktuelle
 s/veranstaltung/turmputz-in-der-st-johann-kirche/
URL:https://skbozen.com/aktuelles/veranstaltung/turmputz-in-der-st-johann-kirche/
END:VEVENT
END:VCALENDAR