BEGIN:VCALENDAR
VERSION:2.0
PRODID:-//eventon.com NONSGML v1.0//EN
CALSCALE:GREGORIAN
METHOD:PUBLISH
BEGIN:VEVENT
UID:69e74d0155b21
DTSTAMP:20260421T101009Z
DTSTART:20251011T053000Z
DTEND:20251011T110000Z
LOCATION:Ledrotal
SUMMARY:Wanderung zum Gedenkkreuz im Ledrotal
DESCRIPTION:Wanderung zum Gedenkkreuz im Ledrotal\nhttps://skbozen.com/aktu
 elles/veranstaltung/wanderung-zum-gedenkkreuz-im-ledrotal-2/
URL:https://skbozen.com/aktuelles/veranstaltung/wanderung-zum-gedenkkreuz-im-ledrotal-2/
END:VEVENT
END:VCALENDAR