BEGIN:VCALENDAR
VERSION:2.0
PRODID:-//eventon.com NONSGML v1.0//EN
CALSCALE:GREGORIAN
METHOD:PUBLISH
BEGIN:VEVENT
UID:69e74ceb170f2
DTSTAMP:20260421T100947Z
DTSTART:20260222T130000Z
DTEND:20260222T150000Z
LOCATION:Sandplatz\,  Meran
SUMMARY:Andreas Hofer Landesfeier in Meran
DESCRIPTION:Andreas Hofer Landesfeier in Meran\nhttps://skbozen.com/aktuell
 es/veranstaltung/andreas-hofer-landesfeier-in-meran-2/
URL:https://skbozen.com/aktuelles/veranstaltung/andreas-hofer-landesfeier-in-meran-2/
END:VEVENT
END:VCALENDAR