BEGIN:VCALENDAR
VERSION:2.0
PRODID:-//eventon.com NONSGML v1.0//EN
CALSCALE:GREGORIAN
METHOD:PUBLISH
BEGIN:VEVENT
UID:69e884f6a97b7
DTSTAMP:20260422T082110Z
DTSTART:20250804T170000Z
DTEND:20250804T190000Z
LOCATION:Schützenheim\,  SK Bozen St. Johann-Gasse 1/D
SUMMARY:Monatsversammlung August
DESCRIPTION:&nbsp;\nhttps://skbozen.com/aktuelles/veranstaltung/monatsversa
 mmlung-august-2/
URL:https://skbozen.com/aktuelles/veranstaltung/monatsversammlung-august-2/
END:VEVENT
END:VCALENDAR