BEGIN:VCALENDAR
VERSION:2.0
PRODID:-//eventon.com NONSGML v1.0//EN
CALSCALE:GREGORIAN
METHOD:PUBLISH
BEGIN:VEVENT
UID:69e8853623ed5
DTSTAMP:20260422T082214Z
DTSTART:20250707T170000Z
DTEND:20250707T190000Z
LOCATION:Schützenheim\,  SK Bozen St. Johann-Gasse 1/D
SUMMARY:Monatsversammlung Juli
DESCRIPTION:&nbsp;\nhttps://skbozen.com/aktuelles/veranstaltung/monatsversa
 mmlung-juli-3/
URL:https://skbozen.com/aktuelles/veranstaltung/monatsversammlung-juli-3/
END:VEVENT
END:VCALENDAR