BEGIN:VCALENDAR
VERSION:2.0
PRODID:-//eventon.com NONSGML v1.0//EN
CALSCALE:GREGORIAN
METHOD:PUBLISH
BEGIN:VEVENT
UID:69e750009020f
DTSTAMP:20260421T102256Z
DTSTART:20250615
DTEND:20250616
LOCATION:
SUMMARY:30. jähriges Wiedergründungsjubiläum der Schützenkompanie Pinè-Sover
DESCRIPTION:30. jähriges Wiedergründungsjubiläum der Schützenkompanie P
 inè-Sover\nhttps://skbozen.com/aktuelles/veranstaltung/30-jaehriges-wieder
 gruendungsjubilaeum-der-schuetzenkompanie-pine-sover/
URL:https://skbozen.com/aktuelles/veranstaltung/30-jaehriges-wiedergruendungsjubilaeum-der-schuetzenkompanie-pine-sover/
END:VEVENT
END:VCALENDAR