BEGIN:VCALENDAR
VERSION:2.0
PRODID:-//eventon.com NONSGML v1.0//EN
CALSCALE:GREGORIAN
METHOD:PUBLISH
BEGIN:VEVENT
UID:69e7476f8bbdb
DTSTAMP:20260421T094623Z
DTSTART:20250309
DTEND:20250310
LOCATION:Seis
SUMMARY:Bezirksversammlung Bezirk Bozen in Seis
DESCRIPTION:Bezirksversammlung Bezirk Bozen in Seis\nhttps://skbozen.com/ak
 tuelles/veranstaltung/bezirksversammlung-bezirk-bozen-in-seis/
URL:https://skbozen.com/aktuelles/veranstaltung/bezirksversammlung-bezirk-bozen-in-seis/
END:VEVENT
END:VCALENDAR