BEGIN:VCALENDAR
VERSION:2.0
PRODID:-//eventon.com NONSGML v1.0//EN
CALSCALE:GREGORIAN
METHOD:PUBLISH
BEGIN:VEVENT
UID:69e5e08f52ecd
DTSTAMP:20260420T081511Z
DTSTART:20241115T170000Z
DTEND:20241115T220000Z
LOCATION:
SUMMARY:Herbstfestl „Grüß Schützen“ Speckbacher Schützenkompanie Alter Schießstand
DESCRIPTION:Liebe Schützenfreunde! Heuer veranstaltet unsere Schützenkomp
 anie erstmals ein Herbstfestl. EINTRITT FREI! ANMELDUNG BITTE BIS SPÄTESTE
 NS 5.11.2024! DANKE • De 6se vom Dorf spielen für uns auf! • Disco Bet
 rieb zu späterer Stunde Auf zahlreiches Kommen in unserem Schützenheim fr
 eut sich die Speckbacher Schützenkompanie Alter Schießstand Anmeldungen u
 nd Tischreservierungen erbeten an[..]\nhttps://skbozen.com/aktuelles/verans
 taltung/herbstfestl-gruess-schuetzen-speckbacher-schuetzenkompanie-alter-sc
 hiessstand/
URL:https://skbozen.com/aktuelles/veranstaltung/herbstfestl-gruess-schuetzen-speckbacher-schuetzenkompanie-alter-schiessstand/
END:VEVENT
END:VCALENDAR