BEGIN:VCALENDAR
VERSION:2.0
PRODID:-//eventon.com NONSGML v1.0//EN
CALSCALE:GREGORIAN
METHOD:PUBLISH
BEGIN:VEVENT
UID:69e74c8b87c77
DTSTAMP:20260421T100811Z
DTSTART:20241013T060000Z
DTEND:20241013T100000Z
LOCATION:Innsbruck
SUMMARY:Schützenjahrtag Speckbacher Schützenkompanie Alter Schießstand Innsbruck O-Dorf
DESCRIPTION:Schützenjahrtag Speckbacher Schützenkompanie Alter Schießsta
 nd Innsbruck O-Dorf\nhttps://skbozen.com/aktuelles/veranstaltung/schuetzenj
 ahrtag-speckbacher-schuetzenkompanie-alter-schiessstand-innsbruck-o-dorf-20
 24/
URL:https://skbozen.com/aktuelles/veranstaltung/schuetzenjahrtag-speckbacher-schuetzenkompanie-alter-schiessstand-innsbruck-o-dorf-2024/
END:VEVENT
END:VCALENDAR