BEGIN:VCALENDAR
VERSION:2.0
PRODID:-//eventon.com NONSGML v1.0//EN
CALSCALE:GREGORIAN
METHOD:PUBLISH
BEGIN:VEVENT
UID:69e73cd486733
DTSTAMP:20260421T090108Z
DTSTART:20250622T070000Z
DTEND:20250622T100000Z
LOCATION:Bozen
SUMMARY:Fronleichnamsprozession
DESCRIPTION:Fronleichnamsprozession\nhttps://skbozen.com/aktuelles/veransta
 ltung/fronleichnamsprozession-2025/
URL:https://skbozen.com/aktuelles/veranstaltung/fronleichnamsprozession-2025/
END:VEVENT
END:VCALENDAR