BEGIN:VCALENDAR
VERSION:2.0
PRODID:-//eventon.com NONSGML v1.0//EN
CALSCALE:GREGORIAN
METHOD:PUBLISH
BEGIN:VEVENT
UID:69ebb2e0d95e4
DTSTAMP:20260424T181352Z
DTSTART:20250223T130000Z
DTEND:20250223T150000Z
LOCATION:St. Leonhard\,  Passeier
SUMMARY:Andreas Hofer Landesfeier in St. Leonhard in Passeier
DESCRIPTION:Andreas Hofer Landesfeier in St. Leonhard in Passeier\nhttps://
 skbozen.com/aktuelles/veranstaltung/andreas-hofer-landesfeier-in-st-leonhar
 d-in-passeier/
URL:https://skbozen.com/aktuelles/veranstaltung/andreas-hofer-landesfeier-in-st-leonhard-in-passeier/
END:VEVENT
END:VCALENDAR