BEGIN:VCALENDAR
VERSION:2.0
PRODID:-//eventon.com NONSGML v1.0//EN
CALSCALE:GREGORIAN
METHOD:PUBLISH
BEGIN:VEVENT
UID:69e7375f076eb
DTSTAMP:20260421T083751Z
DTSTART:20240907T180000Z
DTEND:20240907T210000Z
LOCATION:Gries\,  Kulturheim
SUMMARY:Filmpremiere "Luis Amplatz - Im Labyrinth von Leben und Tod" - Eine Filmdokumentation
DESCRIPTION:Die präsentierte Film-Doku versucht erstmals am Porträt des G
 rieser Kleinbauern Alois (Luis) Amplatz eine umfassende Darstellung und Auf
 arbeitung jener turbulenten 1960er Jahre und lässt damit eine verdrängtes
  Kapitel Zeitgeschichte wiederaufleben. Unser Anliegen war es Weggefährten
 \,  Zeitzeugen\,  Beteiligte und Betroffene zu Wort kommen zu lassen\,  den
 en wir für ihre Mitarbeit und[..]\nhttps://skbozen.com/aktuelles/veranstal
 tung/filmpremiere-luis-amplatz-im-labyrinth-von-leben-und-tod-eine-filmdoku
 mentation/
URL:https://skbozen.com/aktuelles/veranstaltung/filmpremiere-luis-amplatz-im-labyrinth-von-leben-und-tod-eine-filmdokumentation/
END:VEVENT
END:VCALENDAR