BEGIN:VCALENDAR
VERSION:2.0
PRODID:-//eventon.com NONSGML v1.0//EN
CALSCALE:GREGORIAN
METHOD:PUBLISH
BEGIN:VEVENT
UID:69e96789db6bb
DTSTAMP:20260423T002753Z
DTSTART:20240622T080000Z
DTEND:20240622T100000Z
LOCATION:Franziskanerkriche\,  Bozen
SUMMARY:Priesterweihe Moritz Windegger ofm
DESCRIPTION:Priesterweihe Moritz Windegger ofm\nhttps://skbozen.com/aktuell
 es/veranstaltung/priesterweihe-moritz-windegger-ofm/
URL:https://skbozen.com/aktuelles/veranstaltung/priesterweihe-moritz-windegger-ofm/
END:VEVENT
END:VCALENDAR