BEGIN:VCALENDAR
VERSION:2.0
PRODID:-//eventon.com NONSGML v1.0//EN
CALSCALE:GREGORIAN
METHOD:PUBLISH
BEGIN:VEVENT
UID:69e737720ab36
DTSTAMP:20260421T083810Z
DTSTART:20240810T140000Z
DTEND:20240810T215900Z
LOCATION:Rentsch\,  Bozen
SUMMARY:Zigglfest in Renstch
DESCRIPTION:Zigglfest in Renstch\nhttps://skbozen.com/aktuelles/veranstaltu
 ng/zigglfest-in-renstch-2/
URL:https://skbozen.com/aktuelles/veranstaltung/zigglfest-in-renstch-2/
END:VEVENT
END:VCALENDAR