BEGIN:VCALENDAR
VERSION:2.0
PRODID:-//eventon.com NONSGML v1.0//EN
CALSCALE:GREGORIAN
METHOD:PUBLISH
BEGIN:VEVENT
UID:69e737720aa8d
DTSTAMP:20260421T083810Z
DTSTART:20231216
DTEND:20231217
LOCATION:Walterhaus\,  Bozen
SUMMARY:Seniorenfeier im Waltherhaus
DESCRIPTION:Seniorenfeier im Waltherhaus\nhttps://skbozen.com/aktuelles/ver
 anstaltung/seniorenfeier-im-waltherhaus-2023/
URL:https://skbozen.com/aktuelles/veranstaltung/seniorenfeier-im-waltherhaus-2023/
END:VEVENT
END:VCALENDAR