BEGIN:VCALENDAR
VERSION:2.0
PRODID:-//eventon.com NONSGML v1.0//EN
CALSCALE:GREGORIAN
METHOD:PUBLISH
BEGIN:VEVENT
UID:69ed5492db49b
DTSTAMP:20260425T235602Z
DTSTART:20240105T150000Z
DTEND:20240105T160000Z
LOCATION:Pfarrplatz Bozen
SUMMARY:Neujahrswünsche für die Kurie
DESCRIPTION:Neujahrswünsche für die Kurie\nhttps://skbozen.com/aktuelles/
 veranstaltung/neujahrswuensche-fuer-die-kurie-2024/
URL:https://skbozen.com/aktuelles/veranstaltung/neujahrswuensche-fuer-die-kurie-2024/
END:VEVENT
END:VCALENDAR