BEGIN:VCALENDAR
VERSION:2.0
PRODID:-//eventon.com NONSGML v1.0//EN
CALSCALE:GREGORIAN
METHOD:PUBLISH
BEGIN:VEVENT
UID:69e735f8c6bbd
DTSTAMP:20260421T083152Z
DTSTART:20231126T123000Z
DTEND:20231126T150000Z
LOCATION:Boccaldo\,  Welsch Tirol
SUMMARY:Gedenkfeier am Soldatenfriedhof in Boccaldo
DESCRIPTION:Gedenkfeier am Soldatenfriedhof in Boccaldo\nhttps://skbozen.co
 m/aktuelles/veranstaltung/gedenkfeier-am-soldatenfriedhof-in-boccaldo-2023/
URL:https://skbozen.com/aktuelles/veranstaltung/gedenkfeier-am-soldatenfriedhof-in-boccaldo-2023/
END:VEVENT
END:VCALENDAR