BEGIN:VCALENDAR
VERSION:2.0
PRODID:-//eventon.com NONSGML v1.0//EN
CALSCALE:GREGORIAN
METHOD:PUBLISH
BEGIN:VEVENT
UID:69e7359dd4740
DTSTAMP:20260421T083021Z
DTSTART:20230506T083000Z
DTEND:20230506T100000Z
LOCATION:Schützenheim\,  SK Bozen St. Johann-Gasse 1/D
SUMMARY:Frühschoppen
DESCRIPTION:Frühschoppen\nhttps://skbozen.com/aktuelles/veranstaltung/frue
 hschoppen-2/
URL:https://skbozen.com/aktuelles/veranstaltung/fruehschoppen-2/
END:VEVENT
END:VCALENDAR