BEGIN:VCALENDAR
VERSION:2.0
PRODID:-//eventon.com NONSGML v1.0//EN
CALSCALE:GREGORIAN
METHOD:PUBLISH
BEGIN:VEVENT
UID:69e8855506eca
DTSTAMP:20260422T082245Z
DTSTART:20231119T101700Z
DTEND:20231119T101700Z
LOCATION:Lana\,  Südtirol
SUMMARY:Franz Höfler Gedenkfeier in Lana
DESCRIPTION:Franz Höfler Gedenkfeier in Lana\nhttps://skbozen.com/aktuelle
 s/veranstaltung/franz-hoefler-gedenkfeier-in-lana-2023/
URL:https://skbozen.com/aktuelles/veranstaltung/franz-hoefler-gedenkfeier-in-lana-2023/
END:VEVENT
END:VCALENDAR