BEGIN:VCALENDAR
VERSION:2.0
PRODID:-//eventon.com NONSGML v1.0//EN
CALSCALE:GREGORIAN
METHOD:PUBLISH
BEGIN:VEVENT
UID:69e510ab1cd70
DTSTAMP:20260419T172811Z
DTSTART:20230218T190000Z
DTEND:20230218T225900Z
LOCATION:Innsbruck\,  Tirol
SUMMARY:Faschingsparty in Innsbruck
DESCRIPTION:Faschingsparty in Innsbruck\nhttps://skbozen.com/aktuelles/vera
 nstaltung/faschingsparty-in-innsbruck/
URL:https://skbozen.com/aktuelles/veranstaltung/faschingsparty-in-innsbruck/
END:VEVENT
END:VCALENDAR