BEGIN:VCALENDAR
VERSION:2.0
PRODID:-//eventon.com NONSGML v1.0//EN
CALSCALE:GREGORIAN
METHOD:PUBLISH
BEGIN:VEVENT
UID:69e88543ba90e
DTSTAMP:20260422T082227Z
DTSTART:20230221T150000Z
DTEND:20230221T170000Z
LOCATION:Schützenheim\,  SK Bozen St. Johann-Gasse 1/D
SUMMARY:Faschingskehraus
DESCRIPTION:Faschingskehraus\nhttps://skbozen.com/aktuelles/veranstaltung/f
 aschingskehraus-2/
URL:https://skbozen.com/aktuelles/veranstaltung/faschingskehraus-2/
END:VEVENT
END:VCALENDAR