BEGIN:VCALENDAR
VERSION:2.0
PRODID:-//eventon.com NONSGML v1.0//EN
CALSCALE:GREGORIAN
METHOD:PUBLISH
BEGIN:VEVENT
UID:69e8853623a80
DTSTAMP:20260422T082214Z
DTSTART:20230206T180000Z
DTEND:20230206T200000Z
LOCATION:Schützenheim\,  SK Bozen St. Johann-Gasse 1/D
SUMMARY:Monatsversammlung Februar
DESCRIPTION:Monatsversammlung Februar\nhttps://skbozen.com/aktuelles/verans
 taltung/monatsversammlung-2/
URL:https://skbozen.com/aktuelles/veranstaltung/monatsversammlung-2/
END:VEVENT
END:VCALENDAR