BEGIN:VCALENDAR
VERSION:2.0
PRODID:-//eventon.com NONSGML v1.0//EN
CALSCALE:GREGORIAN
METHOD:PUBLISH
BEGIN:VEVENT
UID:69e8834271b08
DTSTAMP:20260422T081354Z
DTSTART:20240203T190000Z
DTEND:20240203T225900Z
LOCATION:Wiener Rathaus
SUMMARY:Tiroler Ball in Wien
DESCRIPTION:Jo\nhttps://skbozen.com/aktuelles/veranstaltung/tiroler-ball-in
 -wien/
URL:https://skbozen.com/aktuelles/veranstaltung/tiroler-ball-in-wien/
END:VEVENT
END:VCALENDAR